BEGIN:VCALENDAR
VERSION:2.0
PRODID:-//Solydari.com - ECPv6.15.14//NONSGML v1.0//EN
CALSCALE:GREGORIAN
METHOD:PUBLISH
X-WR-CALNAME:Solydari.com
X-ORIGINAL-URL:https://solydari.com
X-WR-CALDESC:Évènements pour Solydari.com
REFRESH-INTERVAL;VALUE=DURATION:PT1H
X-Robots-Tag:noindex
X-PUBLISHED-TTL:PT1H
BEGIN:VTIMEZONE
TZID:Europe/Paris
BEGIN:DAYLIGHT
TZOFFSETFROM:+0100
TZOFFSETTO:+0200
TZNAME:CEST
DTSTART:20250330T010000
END:DAYLIGHT
BEGIN:STANDARD
TZOFFSETFROM:+0200
TZOFFSETTO:+0100
TZNAME:CET
DTSTART:20251026T010000
END:STANDARD
BEGIN:DAYLIGHT
TZOFFSETFROM:+0100
TZOFFSETTO:+0200
TZNAME:CEST
DTSTART:20260329T010000
END:DAYLIGHT
BEGIN:STANDARD
TZOFFSETFROM:+0200
TZOFFSETTO:+0100
TZNAME:CET
DTSTART:20261025T010000
END:STANDARD
BEGIN:DAYLIGHT
TZOFFSETFROM:+0100
TZOFFSETTO:+0200
TZNAME:CEST
DTSTART:20270328T010000
END:DAYLIGHT
BEGIN:STANDARD
TZOFFSETFROM:+0200
TZOFFSETTO:+0100
TZNAME:CET
DTSTART:20271031T010000
END:STANDARD
END:VTIMEZONE
BEGIN:VEVENT
DTSTART;TZID=Europe/Paris:20260417T083000
DTEND;TZID=Europe/Paris:20260417T103000
DTSTAMP:20260420T065256
CREATED:20260319T082332Z
LAST-MODIFIED:20260319T082332Z
UID:33866-1776414600-1776421800@solydari.com
SUMMARY:Atelier Speed-Working
DESCRIPTION:Le Speed-Working est un format d’atelier dynamique qui permet de favoriser les échanges rapides et la collaboration entre participant·e·s. Inspiré du principe du speed-dating\, il consiste à enchaîner de courtes séquences de travail en petits groupes ou en binômes\, autour de thématiques ou de questions précises. \nChaque rotation offre l’occasion de partager des idées\, de confronter des points de vue et de co-construire des réflexions en un temps limité. Ce rythme soutenu stimule la créativité\, l’écoute active et l’intelligence collective. \nDans le cadre de ce premier atelier à Solydari Mouguerre\, le Speed-Working vise à créer du lien\, à encourager la participation de chacun·e\, et à ouvrir des opportunités de collaborations internes au sein du groupe. \nIl permet ainsi de poser les bases d’une dynamique collective à la fois collaborative\, conviviale et orientée vers des projets communs. \nUn moment convivial aura lieu par la suite\, avec viennoiseries et café au rendez-vous.
URL:https://solydari.com/reunions/atelier-speed-working/
LOCATION:La Cabane a pizza\, 85 Av. D'Aguerria\, Mouguerre\, Sélectionner un État :\, 64990\, France
ATTACH;FMTTYPE=image/jpeg:https://solydari.com/wp-content/uploads/2025/12/img_4847.jpg
END:VEVENT
END:VCALENDAR