BEGIN:VCALENDAR
VERSION:2.0
PRODID:-//Solydari.com - ECPv6.15.14//NONSGML v1.0//EN
CALSCALE:GREGORIAN
METHOD:PUBLISH
X-WR-CALNAME:Solydari.com
X-ORIGINAL-URL:https://solydari.com
X-WR-CALDESC:Évènements pour Solydari.com
REFRESH-INTERVAL;VALUE=DURATION:PT1H
X-Robots-Tag:noindex
X-PUBLISHED-TTL:PT1H
BEGIN:VTIMEZONE
TZID:Europe/Paris
BEGIN:DAYLIGHT
TZOFFSETFROM:+0100
TZOFFSETTO:+0200
TZNAME:CEST
DTSTART:20250330T010000
END:DAYLIGHT
BEGIN:STANDARD
TZOFFSETFROM:+0200
TZOFFSETTO:+0100
TZNAME:CET
DTSTART:20251026T010000
END:STANDARD
BEGIN:DAYLIGHT
TZOFFSETFROM:+0100
TZOFFSETTO:+0200
TZNAME:CEST
DTSTART:20260329T010000
END:DAYLIGHT
BEGIN:STANDARD
TZOFFSETFROM:+0200
TZOFFSETTO:+0100
TZNAME:CET
DTSTART:20261025T010000
END:STANDARD
BEGIN:DAYLIGHT
TZOFFSETFROM:+0100
TZOFFSETTO:+0200
TZNAME:CEST
DTSTART:20270328T010000
END:DAYLIGHT
BEGIN:STANDARD
TZOFFSETFROM:+0200
TZOFFSETTO:+0100
TZNAME:CET
DTSTART:20271031T010000
END:STANDARD
END:VTIMEZONE
BEGIN:VEVENT
DTSTART;TZID=Europe/Paris:20260209T193000
DTEND;TZID=Europe/Paris:20260209T220000
DTSTAMP:20260420T170140
CREATED:20250212T091636Z
LAST-MODIFIED:20260127T112924Z
UID:16527-1770665400-1770674400@solydari.com
SUMMARY:Cohésion Bayonne - 🎲 L’objet mystère + 🧠 Le jeu des valeurs
DESCRIPTION:Cette réunion de cohésion sur le pôle Solydari Bayonne a pour but synergique de nouer les liens entre les membres en passant un bon moment convivial. Parler business\, parler de compétences à améliorer\, tout ce qu’il faut pour conserver une amitié professionnelle durable et fidèle sera naturellement au rendez-vous. \n  \n🎲 L’objet mystère\nBut : chaque entrepreneur apporte un objet qui représente symboliquement son activité. \n\n\nLes autres doivent deviner quelle activité se cache derrière. \n\n\nExemples : une loupe pour un détective de l’immobilier\, une gomme pour une coach en réinvention\, etc. \n\n\n👉 Objectif : encourager la créativité et la découverte. \n+ \n🧠 Le jeu des valeurs\nBut : chaque entrepreneur tire 3 cartes (ou papiers) avec des valeurs (ex : liberté\, excellence\, entraide). \n\n\nIl en garde 2 (ses vraies valeurs)\, en élimine 1 (moins importante). \n\n\nLes autres doivent deviner lesquelles il a choisi et pourquoi. \n\n\n👉 Objectif : apprendre à mieux connaître les personnalités du groupe. \nIl est possible pour les candidats d’y participer \nPour les membres Solydari : \n\nPensez à prendre vos cartes de visite en quantité.\nInscrivez-vous en cliquant sur “Indiquez votre participation“
URL:https://solydari.com/reunions/cohesion-bayonne-7/
LOCATION:Kokot Nomad\, 4 Chem. de Jorlis\, Anglet\, Nouvelle-Aquitaine\, 64600\, France
CATEGORIES:Bayonne
ATTACH;FMTTYPE=image/png:https://solydari.com/wp-content/uploads/2025/11/bayonne-8.png
ORGANIZER;CN="Solydari Bayonne":MAILTO:solydarigroupe@gmail.com
END:VEVENT
BEGIN:VEVENT
DTSTART;TZID=Europe/Paris:20260223T193000
DTEND;TZID=Europe/Paris:20260223T220000
DTSTAMP:20260420T170140
CREATED:20260204T125114Z
LAST-MODIFIED:20260204T125322Z
UID:32879-1771875000-1771884000@solydari.com
SUMMARY:Cohésion Bayonne - “Qui est-ce ?”
DESCRIPTION:Cette réunion de cohésion sur le pôle Solydari Bayonne a pour but synergique de nouer les liens entre les membres en passant un bon moment convivial. Parler business\, parler de compétences à améliorer\, tout ce qu’il faut pour conserver une amitié professionnelle durable et fidèle sera naturellement au rendez-vous. \n  \n🎲 Principe :\n\n\nChaque participant écrit son métier sur un papier (sans le montrer). \n\n\nTous les papiers sont mélangés dans un bol. \n\n\nÀ tour de rôle\, un membre pioche un métier et doit le mimer (sans parler). \n\n\nLe groupe doit deviner. \n\n\n\n🧠 “Qui est-ce ?”\nBut : Objectifs : \n\n\nmémorisation des métiers \n\n\nlâcher prise \n\n\ncohésion immédiate \n\n\n  \nPour les membres Solydari : \n\nPensez à prendre vos cartes de visite en quantité.\nInscrivez-vous en cliquant sur “Indiquez votre participation“
URL:https://solydari.com/reunions/cohesion-bayonne-qui-est-ce/
LOCATION:Kokot Nomad\, 4 Chem. de Jorlis\, Anglet\, Nouvelle-Aquitaine\, 64600\, France
CATEGORIES:Bayonne
ATTACH;FMTTYPE=image/png:https://solydari.com/wp-content/uploads/2025/11/bayonne-8.png
ORGANIZER;CN="Solydari Bayonne":MAILTO:solydarigroupe@gmail.com
END:VEVENT
BEGIN:VEVENT
DTSTART;TZID=Europe/Paris:20260224T180000
DTEND;TZID=Europe/Paris:20260224T200000
DTSTAMP:20260420T170140
CREATED:20260204T091523Z
LAST-MODIFIED:20260204T091523Z
UID:32855-1771956000-1771963200@solydari.com
SUMMARY:Réunion Présidents de pôles - Visio
DESCRIPTION:Réunion en visio qui vise à souder les présidents de pôles ainsi que de développer au mieux les pôles durant le mois qui suivent en faisant remonter et descendre les informations cruciales de solydari. \nAnnonce des différents nouveaux éléments ou modification pour les pôles. \nAnalyse des statistiques par pôle. \nLa présence d’un président par pôle est obligatoire. \nLes mentors ont le droit d’assister aux réunions de présidents de pôles.
URL:https://solydari.com/reunions/reunion-work-afterwork-presidents-de-poles-8/
LOCATION:Visio
CATEGORIES:Anglet,Bayonne,Biarritz,Bidart,Came,Dax,Dreux,Hossegor,Kanbo,Mont de Marsan,Mouguerre,Nîmes,Onena,Paris Est,Pau Idron,Pau Lescar,Pouillon,Salies-de-Bearn,Tarbes,Tarnos
ATTACH;FMTTYPE=image/png:https://solydari.com/wp-content/uploads/2025/02/capture-decran-2023-10-24-093017-hx2ame.tmp_.png
ORGANIZER;CN="Solydari Bayonne":MAILTO:solydarigroupe@gmail.com
END:VEVENT
END:VCALENDAR