BEGIN:VCALENDAR
VERSION:2.0
PRODID:-//Solydari.com - ECPv6.15.14//NONSGML v1.0//EN
CALSCALE:GREGORIAN
METHOD:PUBLISH
X-ORIGINAL-URL:https://solydari.com
X-WR-CALDESC:Évènements pour Solydari.com
REFRESH-INTERVAL;VALUE=DURATION:PT1H
X-Robots-Tag:noindex
X-PUBLISHED-TTL:PT1H
BEGIN:VTIMEZONE
TZID:Europe/Paris
BEGIN:DAYLIGHT
TZOFFSETFROM:+0100
TZOFFSETTO:+0200
TZNAME:CEST
DTSTART:20250330T010000
END:DAYLIGHT
BEGIN:STANDARD
TZOFFSETFROM:+0200
TZOFFSETTO:+0100
TZNAME:CET
DTSTART:20251026T010000
END:STANDARD
BEGIN:DAYLIGHT
TZOFFSETFROM:+0100
TZOFFSETTO:+0200
TZNAME:CEST
DTSTART:20260329T010000
END:DAYLIGHT
BEGIN:STANDARD
TZOFFSETFROM:+0200
TZOFFSETTO:+0100
TZNAME:CET
DTSTART:20261025T010000
END:STANDARD
BEGIN:DAYLIGHT
TZOFFSETFROM:+0100
TZOFFSETTO:+0200
TZNAME:CEST
DTSTART:20270328T010000
END:DAYLIGHT
BEGIN:STANDARD
TZOFFSETFROM:+0200
TZOFFSETTO:+0100
TZNAME:CET
DTSTART:20271031T010000
END:STANDARD
END:VTIMEZONE
BEGIN:VEVENT
DTSTART;TZID=Europe/Paris:20260309T193000
DTEND;TZID=Europe/Paris:20260309T220000
DTSTAMP:20260420T154643
CREATED:20260204T125739Z
LAST-MODIFIED:20260204T130506Z
UID:32884-1773084600-1773093600@solydari.com
SUMMARY:Cohésion Bayonne - Le fight club
DESCRIPTION:Cette réunion de cohésion sur le pôle Solydari Bayonne a pour but synergique de nouer les liens entre les membres en passant un bon moment convivial. Parler business\, parler de compétences à améliorer\, tout ce qu’il faut pour conserver une amitié professionnelle durable et fidèle sera naturellement au rendez-vous. \n  \n🎲 Principe : (45-50 min)\n• Présentation du jeu\n• Jeu en 3 manches\n• 4 Equipes qui s’affrontent avec des métiers variés \nRègles du jeu • Chaque équipe ou chaque membre pioche une question dans un bol\n• Bonne réponse : 1 point\n• Mauvaise réponse : 0\n• 15 min par manche \nManche 1 – Les recommandations • « Si j’ai besoin de refaire ma toiture\, j’appelle … ? »\n• « Si j’ai besoin de faire un diagnostic\, j’appelle….? » \nManche 2 – Les process métiers • « Ce membre X ou ce métier X peut-il être exercé en télé-travail ? »\n• « Ce métier X implique t-il une assurance particulière ? » \nManche 3 – Fun & décalé • « Qui pourrait devenir Youtubeur demain ? »\n• « Quel membre survit le plus longtemps sur une ile déserte ? »\n• Les réponses doivent être validées par les autres membres ou non. \nPour les membres Solydari : \n\nPensez à prendre vos cartes de visite en quantité.\nInscrivez-vous en cliquant sur “Indiquez votre participation“
URL:https://solydari.com/reunions/cohesion-bayonne-fight-club/
LOCATION:Kokot Nomad\, 4 Chem. de Jorlis\, Anglet\, Nouvelle-Aquitaine\, 64600\, France
CATEGORIES:Bayonne
ATTACH;FMTTYPE=image/png:https://solydari.com/wp-content/uploads/2025/11/bayonne-8.png
ORGANIZER;CN="Solydari Bayonne":MAILTO:solydarigroupe@gmail.com
END:VEVENT
BEGIN:VEVENT
DTSTART;TZID=Europe/Paris:20260323T193000
DTEND;TZID=Europe/Paris:20260323T220000
DTSTAMP:20260420T154644
CREATED:20260204T130233Z
LAST-MODIFIED:20260204T130233Z
UID:32886-1774294200-1774303200@solydari.com
SUMMARY:Cohésion Bayonne - Quizz des experts
DESCRIPTION:Cette réunion de cohésion sur le pôle Solydari Bayonne a pour but synergique de nouer les liens entre les membres en passant un bon moment convivial. Parler business\, parler de compétences à améliorer\, tout ce qu’il faut pour conserver une amitié professionnelle durable et fidèle sera naturellement au rendez-vous. \n  \n🎲 Principe : (45-50 min)\n• Mieux comprendre les métiers du pôle\n• Apprendre à recommander\n• Développer la cohésion\n• Créer des vraies synergies \nRègles du jeu : \n• Une roue des métiers avec 7 défis\n• Un bol avec les métiers du pôle\n• Un bol avec des besoins\n• Jeu par équipe ou en solo\n• Chaque membre tourne la roue\, et réalise le défi\, en tirant un métier dans le bol ou un besoin\ndans le bol 2 \nDéfis exemples :  \n• Pitch un membre en 30 sec\n• Trouve une synergie (avec un autre membre ou un métier non compris dans le pôle = idée pour\nrecruter)\, expliquer pourquoi en 30 sec\n• Devine un outil\, le membre concerné valide la réponse. (pour les métiers digital\, outil = logiciel et\nnon ordinateur)\n• Ce que j’admire dans ton métier… (respect\, inspiration)\n• Recommande quelqu’un (bol des besoins\, ajouter des besoins liés à des membres d’autres\npôles pour la difficulté)\n• La fausse croyance (ex : un graphiste\, ça fait juste des logos)\n• Le micro besoin (trouver un micro besoin très précis pour le métier tiré\, ex : photo de portrait\nlinkedIn\, création d’un logo pour une gamme de chocolat bio) \n\nPour les membres Solydari : \n\nPensez à prendre vos cartes de visite en quantité.\nInscrivez-vous en cliquant sur “Indiquez votre participation“
URL:https://solydari.com/reunions/cohesion-bayonne-quizz-des-experts-2/
LOCATION:Kokot Nomad\, 4 Chem. de Jorlis\, Anglet\, Nouvelle-Aquitaine\, 64600\, France
CATEGORIES:Bayonne
ATTACH;FMTTYPE=image/png:https://solydari.com/wp-content/uploads/2025/11/bayonne-8.png
ORGANIZER;CN="Solydari Bayonne":MAILTO:solydarigroupe@gmail.com
END:VEVENT
END:VCALENDAR