BEGIN:VCALENDAR
VERSION:2.0
PRODID:-//Solydari.com - ECPv6.15.14//NONSGML v1.0//EN
CALSCALE:GREGORIAN
METHOD:PUBLISH
X-ORIGINAL-URL:https://solydari.com
X-WR-CALDESC:Évènements pour Solydari.com
REFRESH-INTERVAL;VALUE=DURATION:PT1H
X-Robots-Tag:noindex
X-PUBLISHED-TTL:PT1H
BEGIN:VTIMEZONE
TZID:Europe/Paris
BEGIN:DAYLIGHT
TZOFFSETFROM:+0100
TZOFFSETTO:+0200
TZNAME:CEST
DTSTART:20250330T010000
END:DAYLIGHT
BEGIN:STANDARD
TZOFFSETFROM:+0200
TZOFFSETTO:+0100
TZNAME:CET
DTSTART:20251026T010000
END:STANDARD
BEGIN:DAYLIGHT
TZOFFSETFROM:+0100
TZOFFSETTO:+0200
TZNAME:CEST
DTSTART:20260329T010000
END:DAYLIGHT
BEGIN:STANDARD
TZOFFSETFROM:+0200
TZOFFSETTO:+0100
TZNAME:CET
DTSTART:20261025T010000
END:STANDARD
BEGIN:DAYLIGHT
TZOFFSETFROM:+0100
TZOFFSETTO:+0200
TZNAME:CEST
DTSTART:20270328T010000
END:DAYLIGHT
BEGIN:STANDARD
TZOFFSETFROM:+0200
TZOFFSETTO:+0100
TZNAME:CET
DTSTART:20271031T010000
END:STANDARD
END:VTIMEZONE
BEGIN:VEVENT
DTSTART;TZID=Europe/Paris:20260504T193000
DTEND;TZID=Europe/Paris:20260504T220000
DTSTAMP:20260420T153944
CREATED:20260204T131851Z
LAST-MODIFIED:20260204T131930Z
UID:32893-1777923000-1777932000@solydari.com
SUMMARY:Cohesion Bayonne - Le client galère
DESCRIPTION:Cette réunion de cohésion sur le pôle Solydari Bayonne a pour but synergique de nouer les liens entre les membres en passant un bon moment convivial. Parler business\, parler de compétences à améliorer\, tout ce qu’il faut pour conserver une amitié professionnelle durable et fidèle sera naturellement au rendez-vous. \n  \n🎲 Principe : (45-50 min)\n\nDeux membres jouent deux clients particulièrement “Chiants” et deux autres doivent négocier au mieux face à eux jusqu’à trouver une solution qu’ils leurs conviennent.\nLes deux clients peuvent mettre en place la stratégie qu’ils souhaitent ainsi que leurs objections.\nCela doit être en lien avec le métier.\n\n  \nPour les membres Solydari : \n\nPensez à prendre vos cartes de visite en quantité.\nInscrivez-vous en cliquant sur “Indiquez votre participation“
URL:https://solydari.com/reunions/cohesion-bayonne-le-client-galere/
LOCATION:Kokot Nomad\, 4 Chem. de Jorlis\, Anglet\, Nouvelle-Aquitaine\, 64600\, France
CATEGORIES:Bayonne
ATTACH;FMTTYPE=image/png:https://solydari.com/wp-content/uploads/2025/11/bayonne-8.png
ORGANIZER;CN="Solydari Bayonne":MAILTO:solydarigroupe@gmail.com
END:VEVENT
BEGIN:VEVENT
DTSTART;TZID=Europe/Paris:20260513T193000
DTEND;TZID=Europe/Paris:20260513T210000
DTSTAMP:20260420T153944
CREATED:20260305T091846Z
LAST-MODIFIED:20260305T091846Z
UID:33600-1778700600-1778706000@solydari.com
SUMMARY:VISIO - ATELIER IA - Interpôle
DESCRIPTION:REUNION EN VISIO EXCLUSIVE AUX MEMBRES SOLYDARI. \nAtelier aspirant à vous former pour gagner du temps avec de l’IA : Niveau intermédiaire. \nLien de connexion : https://meet.google.com/krm-occf-ibm \n  \nPoints particuliers : \n\nLe visio sera entièrement enregistré et mis en ligne sur le Youtube privé de solydari afin d’être disponible sur l’université en ligne de solydari par la suite.\nOBLIGATOIRE : Disposer d’un compte Chat GPT déjà prêt pour le visio. Beaucoup d’éléments vont être montrés avec un compte pro\, certaines options ne seront disponibles que sur des comptes Chat Gpt pros (mais rien n’empêchera de se former).\nObjectifs : 1 Voir et écouter / 2 Noter puis poser les questions à la fin (session enregistrée) / 3 Re-visionner la vidéo dans l’université en ligne si besoin par la suite.\nPour les présidents de pôles : N’utilisez pas le compte commun Chat Gpt pendant le visio afin qu’il ne soit pas trop lent ou surconsommé.\nNous utiliserons uniquement CHAT GPT avec ces différents modèles.\n\n  \nDéroulé : \n\nPersonnaliser son compte Chat Gpt pour gagner en efficacité.\nUtiliser les différents modèles.\nComment prompter proprement.\nCréer un GPT efficace.\nCréer ses propres outils du quotidien\, de prospection\, d’expertise\, d’analyse\, de rédaction\, etc. (Répétitions d’actions à simplifier avec l’IA).\nRappel : Julian Pôle Anglet.\n\n  \nAtelier organisé par Quentin Dumas \nSi questions : solydarigroupe@gmail.com
URL:https://solydari.com/reunions/visio-atelier-ia-interpole/
LOCATION:Visio
CATEGORIES:Anglet,Bayonne,Biarritz,Bidart,Came,Dax,Dreux,Hossegor,Kanbo,Le Luc,Marmande,Mont de Marsan,Mouguerre,Nîmes,Onena,Paris Est,Pau Idron,Pau Lescar,Pouillon,Salies-de-Bearn,Tarbes,Tarnos
ATTACH;FMTTYPE=image/png:https://solydari.com/wp-content/uploads/2026/03/visio-immo.png
ORGANIZER;CN="Solydari Bayonne":MAILTO:solydarigroupe@gmail.com
END:VEVENT
BEGIN:VEVENT
DTSTART;TZID=Europe/Paris:20260518T193000
DTEND;TZID=Europe/Paris:20260518T220000
DTSTAMP:20260420T153944
CREATED:20260204T132207Z
LAST-MODIFIED:20260204T132207Z
UID:32895-1779132600-1779141600@solydari.com
SUMMARY:Cohesion Bayonne - Le talent caché
DESCRIPTION:Cette réunion de cohésion sur le pôle Solydari Bayonne a pour but synergique de nouer les liens entre les membres en passant un bon moment convivial. Parler business\, parler de compétences à améliorer\, tout ce qu’il faut pour conserver une amitié professionnelle durable et fidèle sera naturellement au rendez-vous. \n  \n🎲 Principe : (45-50 min)\nTout le monde doit noter sur 3 papiers différents\, 3 talents cachés ! \nTous les papiers sont mis dans une boîte et seront tirés au sort par un président de pôle. \nCelui qui gagne le plus de points l’emporte ! Après on sait pas ce qu’il emporte mais il l’emporte ! \n  \nPour les membres Solydari : \n\nPensez à prendre vos cartes de visite en quantité.\nInscrivez-vous en cliquant sur “Indiquez votre participation“
URL:https://solydari.com/reunions/cohesion-bayonne-le-talent-cache/
LOCATION:Kokot Nomad\, 4 Chem. de Jorlis\, Anglet\, Nouvelle-Aquitaine\, 64600\, France
CATEGORIES:Bayonne
ATTACH;FMTTYPE=image/png:https://solydari.com/wp-content/uploads/2025/11/bayonne-8.png
ORGANIZER;CN="Solydari Bayonne":MAILTO:solydarigroupe@gmail.com
END:VEVENT
END:VCALENDAR