BEGIN:VCALENDAR
VERSION:2.0
PRODID:-//Solydari.com - ECPv6.15.14//NONSGML v1.0//EN
CALSCALE:GREGORIAN
METHOD:PUBLISH
X-WR-CALNAME:Solydari.com
X-ORIGINAL-URL:https://solydari.com
X-WR-CALDESC:Évènements pour Solydari.com
REFRESH-INTERVAL;VALUE=DURATION:PT1H
X-Robots-Tag:noindex
X-PUBLISHED-TTL:PT1H
BEGIN:VTIMEZONE
TZID:Europe/Paris
BEGIN:DAYLIGHT
TZOFFSETFROM:+0100
TZOFFSETTO:+0200
TZNAME:CEST
DTSTART:20250330T010000
END:DAYLIGHT
BEGIN:STANDARD
TZOFFSETFROM:+0200
TZOFFSETTO:+0100
TZNAME:CET
DTSTART:20251026T010000
END:STANDARD
BEGIN:DAYLIGHT
TZOFFSETFROM:+0100
TZOFFSETTO:+0200
TZNAME:CEST
DTSTART:20260329T010000
END:DAYLIGHT
BEGIN:STANDARD
TZOFFSETFROM:+0200
TZOFFSETTO:+0100
TZNAME:CET
DTSTART:20261025T010000
END:STANDARD
BEGIN:DAYLIGHT
TZOFFSETFROM:+0100
TZOFFSETTO:+0200
TZNAME:CEST
DTSTART:20270328T010000
END:DAYLIGHT
BEGIN:STANDARD
TZOFFSETFROM:+0200
TZOFFSETTO:+0100
TZNAME:CET
DTSTART:20271031T010000
END:STANDARD
END:VTIMEZONE
BEGIN:VEVENT
DTSTART;TZID=Europe/Paris:20260902T180000
DTEND;TZID=Europe/Paris:20260902T200000
DTSTAMP:20260420T153404
CREATED:20260204T091714Z
LAST-MODIFIED:20260204T091714Z
UID:32861-1788372000-1788379200@solydari.com
SUMMARY:Réunion Présidents de pôles - Visio
DESCRIPTION:Réunion en visio qui vise à souder les présidents de pôles ainsi que de développer au mieux les pôles durant le mois qui suivent en faisant remonter et descendre les informations cruciales de solydari. \nAnnonce des différents nouveaux éléments ou modification pour les pôles. \nAnalyse des statistiques par pôle. \nLa présence d’un président par pôle est obligatoire. \nLes mentors ont le droit d’assister aux réunions de présidents de pôles.
URL:https://solydari.com/reunions/reunion-presidents-de-poles-visio-3/
LOCATION:Visio
CATEGORIES:Anglet,Bayonne,Biarritz,Bidart,Came,Dax,Dreux,Hossegor,Kanbo,Mont de Marsan,Mouguerre,Nîmes,Onena,Paris Est,Pau Idron,Pau Lescar,Pouillon,Salies-de-Bearn,Tarbes,Tarnos
ATTACH;FMTTYPE=image/png:https://solydari.com/wp-content/uploads/2025/02/capture-decran-2023-10-24-093017-hx2ame.tmp_.png
ORGANIZER;CN="Solydari Bayonne":MAILTO:solydarigroupe@gmail.com
END:VEVENT
END:VCALENDAR