BEGIN:VCALENDAR
VERSION:2.0
PRODID:-//Solydari.com - ECPv6.15.14//NONSGML v1.0//EN
CALSCALE:GREGORIAN
METHOD:PUBLISH
X-WR-CALNAME:Solydari.com
X-ORIGINAL-URL:https://solydari.com
X-WR-CALDESC:Évènements pour Solydari.com
REFRESH-INTERVAL;VALUE=DURATION:PT1H
X-Robots-Tag:noindex
X-PUBLISHED-TTL:PT1H
BEGIN:VTIMEZONE
TZID:Europe/Paris
BEGIN:DAYLIGHT
TZOFFSETFROM:+0100
TZOFFSETTO:+0200
TZNAME:CEST
DTSTART:20250330T010000
END:DAYLIGHT
BEGIN:STANDARD
TZOFFSETFROM:+0200
TZOFFSETTO:+0100
TZNAME:CET
DTSTART:20251026T010000
END:STANDARD
BEGIN:DAYLIGHT
TZOFFSETFROM:+0100
TZOFFSETTO:+0200
TZNAME:CEST
DTSTART:20260329T010000
END:DAYLIGHT
BEGIN:STANDARD
TZOFFSETFROM:+0200
TZOFFSETTO:+0100
TZNAME:CET
DTSTART:20261025T010000
END:STANDARD
BEGIN:DAYLIGHT
TZOFFSETFROM:+0100
TZOFFSETTO:+0200
TZNAME:CEST
DTSTART:20270328T010000
END:DAYLIGHT
BEGIN:STANDARD
TZOFFSETFROM:+0200
TZOFFSETTO:+0100
TZNAME:CET
DTSTART:20271031T010000
END:STANDARD
END:VTIMEZONE
BEGIN:VEVENT
DTSTART;TZID=Europe/Paris:20260305T193000
DTEND;TZID=Europe/Paris:20260305T220000
DTSTAMP:20260420T125010
CREATED:20251203T143304Z
LAST-MODIFIED:20260226T090328Z
UID:31160-1772739000-1772748000@solydari.com
SUMMARY:Innovation locale Dax : deux solutions digitales à découvrir
DESCRIPTION:Et si tu gagnais du temps ET du contrôle sur ton business ? \n📅 Jeudi 05 mars 2026 • 19h30\n🚀 Réunion inter-pôles Solydari – Spéciale INNOVATION \n2 applis créées par des membres\, 2 démos en live :\n🔹 Lamine Assistant BTP (Michaël Grillet) : devis en quelques instants\, organisation terrain\, gain de temps.\n🔹 Kpizen – Coach Business (Jeremy Boleis) : pilote ta boîte\, anticipe\, maîtrise ta trésorerie et tes finances. \n🎯 Objectif : faire découvrir ces outils à un max d’entrepreneurs.\n📍Résidence Amarena à St Paul les Dax \n👉 Tu viens ? Tu invites un entrepreneur ?
URL:https://solydari.com/reunions/soiree-innovation-interpoles/
LOCATION:Residence Amarena\, 6 Rue du 19 Mars 1962\, Saint-Paul-lès-Dax\, 40990\, France
CATEGORIES:Dax
ATTACH;FMTTYPE=image/jpeg:https://solydari.com/wp-content/uploads/2025/12/05-mars-votre-story-2.jpg
END:VEVENT
BEGIN:VEVENT
DTSTART;TZID=Europe/Paris:20260318T193000
DTEND;TZID=Europe/Paris:20260318T220000
DTSTAMP:20260420T125010
CREATED:20251203T150018Z
LAST-MODIFIED:20251203T150018Z
UID:31168-1773862200-1773871200@solydari.com
SUMMARY:Développement / Atelier Dax
DESCRIPTION:Rejoignez-nous à L’Arbre Perché\, Saint-Paul-lès-Dax à 19h30 pour une rencontre business pleine d’énergie ! Autour d’un verre et de tapas\, chaque entreprise pourra se présenter\, partager ses besoins et créer des connexions vraiment utiles. \nUn tour de table dynamique ou un atelier express permettra à chacun de mettre en avant son activité et d’activer les recommandations entre membres. \nIndépendants\, salariés ou entreprises curieuses : vous êtes les bienvenus pour découvrir l’esprit Solydari… et peut-être trouver le groupe qui vous boostera. \nEnvie de nous rejoindre ? Déposez votre candidature dès maintenant.
URL:https://solydari.com/reunions/developpement-atelier-dax-17/
LOCATION:L’arbre Perché\, 328 Av. de la résistance\, saint paul les dax\, 40990\, France
CATEGORIES:Dax
ATTACH;FMTTYPE=image/jpeg:https://solydari.com/wp-content/uploads/2025/02/votre-texte-de-paragraphe-2.jpg
END:VEVENT
END:VCALENDAR