BEGIN:VCALENDAR
VERSION:2.0
PRODID:-//Solydari.com - ECPv6.15.14//NONSGML v1.0//EN
CALSCALE:GREGORIAN
METHOD:PUBLISH
X-ORIGINAL-URL:https://solydari.com
X-WR-CALDESC:Évènements pour Solydari.com
REFRESH-INTERVAL;VALUE=DURATION:PT1H
X-Robots-Tag:noindex
X-PUBLISHED-TTL:PT1H
BEGIN:VTIMEZONE
TZID:Europe/Paris
BEGIN:DAYLIGHT
TZOFFSETFROM:+0100
TZOFFSETTO:+0200
TZNAME:CEST
DTSTART:20250330T010000
END:DAYLIGHT
BEGIN:STANDARD
TZOFFSETFROM:+0200
TZOFFSETTO:+0100
TZNAME:CET
DTSTART:20251026T010000
END:STANDARD
BEGIN:DAYLIGHT
TZOFFSETFROM:+0100
TZOFFSETTO:+0200
TZNAME:CEST
DTSTART:20260329T010000
END:DAYLIGHT
BEGIN:STANDARD
TZOFFSETFROM:+0200
TZOFFSETTO:+0100
TZNAME:CET
DTSTART:20261025T010000
END:STANDARD
BEGIN:DAYLIGHT
TZOFFSETFROM:+0100
TZOFFSETTO:+0200
TZNAME:CEST
DTSTART:20270328T010000
END:DAYLIGHT
BEGIN:STANDARD
TZOFFSETFROM:+0200
TZOFFSETTO:+0100
TZNAME:CET
DTSTART:20271031T010000
END:STANDARD
END:VTIMEZONE
BEGIN:VEVENT
DTSTART;TZID=Europe/Paris:20260506T193000
DTEND;TZID=Europe/Paris:20260506T220000
DTSTAMP:20260420T125118
CREATED:20251203T150440Z
LAST-MODIFIED:20260312T230421Z
UID:31174-1778095800-1778104800@solydari.com
SUMMARY:Développement / Atelier Dax
DESCRIPTION:Rejoignez-nous à Experiment’Halle\, DAX à 19h30 pour une rencontre business pleine d’énergie ! Autour d’un verre et de tapas\, chaque entreprise pourra se présenter\, partager ses besoins et créer des connexions vraiment utiles. \nUn tour de table dynamique ou un atelier express permettra à chacun de mettre en avant son activité et d’activer les recommandations entre membres. \nIndépendants\, salariés ou entreprises curieuses : vous êtes les bienvenus pour découvrir l’esprit Solydari… et peut-être trouver le groupe qui vous boostera. \nEnvie de nous rejoindre ? Déposez votre candidature dès maintenant.
URL:https://solydari.com/reunions/developpement-atelier-dax-23/
LOCATION:Experiment’Halle\, Les Halles de Dax2 Pl. Roger Ducos\,\, Dax\, 40100\, France
CATEGORIES:Dax
ATTACH;FMTTYPE=image/jpeg:https://solydari.com/wp-content/uploads/2025/02/votre-texte-de-paragraphe-2.jpg
END:VEVENT
BEGIN:VEVENT
DTSTART;TZID=Europe/Paris:20260513T193000
DTEND;TZID=Europe/Paris:20260513T210000
DTSTAMP:20260420T125118
CREATED:20260305T091846Z
LAST-MODIFIED:20260305T091846Z
UID:33600-1778700600-1778706000@solydari.com
SUMMARY:VISIO - ATELIER IA - Interpôle
DESCRIPTION:REUNION EN VISIO EXCLUSIVE AUX MEMBRES SOLYDARI. \nAtelier aspirant à vous former pour gagner du temps avec de l’IA : Niveau intermédiaire. \nLien de connexion : https://meet.google.com/krm-occf-ibm \n  \nPoints particuliers : \n\nLe visio sera entièrement enregistré et mis en ligne sur le Youtube privé de solydari afin d’être disponible sur l’université en ligne de solydari par la suite.\nOBLIGATOIRE : Disposer d’un compte Chat GPT déjà prêt pour le visio. Beaucoup d’éléments vont être montrés avec un compte pro\, certaines options ne seront disponibles que sur des comptes Chat Gpt pros (mais rien n’empêchera de se former).\nObjectifs : 1 Voir et écouter / 2 Noter puis poser les questions à la fin (session enregistrée) / 3 Re-visionner la vidéo dans l’université en ligne si besoin par la suite.\nPour les présidents de pôles : N’utilisez pas le compte commun Chat Gpt pendant le visio afin qu’il ne soit pas trop lent ou surconsommé.\nNous utiliserons uniquement CHAT GPT avec ces différents modèles.\n\n  \nDéroulé : \n\nPersonnaliser son compte Chat Gpt pour gagner en efficacité.\nUtiliser les différents modèles.\nComment prompter proprement.\nCréer un GPT efficace.\nCréer ses propres outils du quotidien\, de prospection\, d’expertise\, d’analyse\, de rédaction\, etc. (Répétitions d’actions à simplifier avec l’IA).\nRappel : Julian Pôle Anglet.\n\n  \nAtelier organisé par Quentin Dumas \nSi questions : solydarigroupe@gmail.com
URL:https://solydari.com/reunions/visio-atelier-ia-interpole/
LOCATION:Visio
CATEGORIES:Anglet,Bayonne,Biarritz,Bidart,Came,Dax,Dreux,Hossegor,Kanbo,Le Luc,Marmande,Mont de Marsan,Mouguerre,Nîmes,Onena,Paris Est,Pau Idron,Pau Lescar,Pouillon,Salies-de-Bearn,Tarbes,Tarnos
ATTACH;FMTTYPE=image/png:https://solydari.com/wp-content/uploads/2026/03/visio-immo.png
ORGANIZER;CN="Solydari Bayonne":MAILTO:solydarigroupe@gmail.com
END:VEVENT
BEGIN:VEVENT
DTSTART;TZID=Europe/Paris:20260520T193000
DTEND;TZID=Europe/Paris:20260520T220000
DTSTAMP:20260420T125118
CREATED:20251203T150605Z
LAST-MODIFIED:20260311T115258Z
UID:31176-1779305400-1779314400@solydari.com
SUMMARY:Développement / Atelier Dax
DESCRIPTION:Rejoignez-nous à La Table de Maman à Dax à 19h30 pour une rencontre business pleine d’énergie ! Autour d’un verre et de tapas\, chaque entreprise pourra se présenter\, partager ses besoins et créer des connexions vraiment utiles. \nUn tour de table dynamique ou un atelier express permettra à chacun de mettre en avant son activité et d’activer les recommandations entre membres. \nIndépendants\, salariés ou entreprises curieuses : vous êtes les bienvenus pour découvrir l’esprit Solydari… et peut-être trouver le groupe qui vous boostera. \nEnvie de nous rejoindre ? Déposez votre candidature dès maintenant.
URL:https://solydari.com/reunions/developpement-atelier-dax-24/
LOCATION:La Table de Maman\, 70 cr du Maréchal Joffre 40100 DAX\, DAX\, 40100
CATEGORIES:Dax
ATTACH;FMTTYPE=image/jpeg:https://solydari.com/wp-content/uploads/2025/02/votre-texte-de-paragraphe-2.jpg
END:VEVENT
END:VCALENDAR