BEGIN:VCALENDAR
VERSION:2.0
PRODID:-//Solydari.com - ECPv6.15.14//NONSGML v1.0//EN
CALSCALE:GREGORIAN
METHOD:PUBLISH
X-WR-CALNAME:Solydari.com
X-ORIGINAL-URL:https://solydari.com
X-WR-CALDESC:Évènements pour Solydari.com
REFRESH-INTERVAL;VALUE=DURATION:PT1H
X-Robots-Tag:noindex
X-PUBLISHED-TTL:PT1H
BEGIN:VTIMEZONE
TZID:Europe/Paris
BEGIN:DAYLIGHT
TZOFFSETFROM:+0100
TZOFFSETTO:+0200
TZNAME:CEST
DTSTART:20250330T010000
END:DAYLIGHT
BEGIN:STANDARD
TZOFFSETFROM:+0200
TZOFFSETTO:+0100
TZNAME:CET
DTSTART:20251026T010000
END:STANDARD
BEGIN:DAYLIGHT
TZOFFSETFROM:+0100
TZOFFSETTO:+0200
TZNAME:CEST
DTSTART:20260329T010000
END:DAYLIGHT
BEGIN:STANDARD
TZOFFSETFROM:+0200
TZOFFSETTO:+0100
TZNAME:CET
DTSTART:20261025T010000
END:STANDARD
BEGIN:DAYLIGHT
TZOFFSETFROM:+0100
TZOFFSETTO:+0200
TZNAME:CEST
DTSTART:20270328T010000
END:DAYLIGHT
BEGIN:STANDARD
TZOFFSETFROM:+0200
TZOFFSETTO:+0100
TZNAME:CET
DTSTART:20271031T010000
END:STANDARD
END:VTIMEZONE
BEGIN:VEVENT
DTSTART;TZID=Europe/Paris:20260122T183000
DTEND;TZID=Europe/Paris:20260122T213000
DTSTAMP:20260420T192514
CREATED:20251117T142326Z
LAST-MODIFIED:20260121T120735Z
UID:30601-1769106600-1769117400@solydari.com
SUMMARY:Développement Tarbes
DESCRIPTION:Première Réunion de Développement de l’année 2026 de Solydari Tarbes \nLe jeudi 22 janvier\, nous vous donnons rendez-vous dans les locaux de notre membre MRM Menuiseries pour sa présentation d’activité. \nMerci à Mickael et son équipe de nous ouvrir les portes de leur entreprise\, car c’est exactement ce que représente Solydari : de l’humain\, du concret et de la confiance construite sur le terrain.
URL:https://solydari.com/reunions/developpement-tarbes-2/
LOCATION:MRM menuiseries\, 9 zone industrielle\, route de Pau\, Ibos\, 65420\, France
CATEGORIES:Tarbes
ATTACH;FMTTYPE=image/png:https://solydari.com/wp-content/uploads/2025/09/capture-decran-2025-09-15-124138.png
ORGANIZER;CN="Solydari Tarbes":MAILTO:solydaritarbes65@gmail.com
END:VEVENT
END:VCALENDAR