BEGIN:VCALENDAR
VERSION:2.0
PRODID:-//Solydari.com - ECPv6.15.14//NONSGML v1.0//EN
CALSCALE:GREGORIAN
METHOD:PUBLISH
X-WR-CALNAME:Solydari.com
X-ORIGINAL-URL:https://solydari.com
X-WR-CALDESC:Évènements pour Solydari.com
REFRESH-INTERVAL;VALUE=DURATION:PT1H
X-Robots-Tag:noindex
X-PUBLISHED-TTL:PT1H
BEGIN:VTIMEZONE
TZID:Europe/Paris
BEGIN:DAYLIGHT
TZOFFSETFROM:+0100
TZOFFSETTO:+0200
TZNAME:CEST
DTSTART:20250330T010000
END:DAYLIGHT
BEGIN:STANDARD
TZOFFSETFROM:+0200
TZOFFSETTO:+0100
TZNAME:CET
DTSTART:20251026T010000
END:STANDARD
BEGIN:DAYLIGHT
TZOFFSETFROM:+0100
TZOFFSETTO:+0200
TZNAME:CEST
DTSTART:20260329T010000
END:DAYLIGHT
BEGIN:STANDARD
TZOFFSETFROM:+0200
TZOFFSETTO:+0100
TZNAME:CET
DTSTART:20261025T010000
END:STANDARD
BEGIN:DAYLIGHT
TZOFFSETFROM:+0100
TZOFFSETTO:+0200
TZNAME:CEST
DTSTART:20270328T010000
END:DAYLIGHT
BEGIN:STANDARD
TZOFFSETFROM:+0200
TZOFFSETTO:+0100
TZNAME:CET
DTSTART:20271031T010000
END:STANDARD
END:VTIMEZONE
BEGIN:VEVENT
DTSTART;TZID=Europe/Paris:20260203T183000
DTEND;TZID=Europe/Paris:20260203T213000
DTSTAMP:20260420T180436
CREATED:20251117T142811Z
LAST-MODIFIED:20260203T105009Z
UID:30608-1770143400-1770154200@solydari.com
SUMMARY:Développement Tarbes
DESCRIPTION:Réunion de Développement du Pôle Solydari Tarbes \nLe mardi 3 février\,  Solydari Tarbes se retrouve pour une réunion de développement. \nDeux membres du pôle auront l’opportunité de présenter leurs activités\, partager leur parcours et leurs expertises afin de mieux se faire connaître et d’ouvrir la voie à de futures collaborations et recommandations au sein du réseau. \nAgnès et Laurent
URL:https://solydari.com/reunions/developpement-tarbes-5/
LOCATION:Microbrasserie la Méridienne\, 14 rue des Pyrénées\, Ibos\, 65420\, France
CATEGORIES:Tarbes
ATTACH;FMTTYPE=image/png:https://solydari.com/wp-content/uploads/2025/09/capture-decran-2025-09-15-124138.png
ORGANIZER;CN="Solydari Tarbes":MAILTO:solydaritarbes65@gmail.com
END:VEVENT
BEGIN:VEVENT
DTSTART;TZID=Europe/Paris:20260217T183000
DTEND;TZID=Europe/Paris:20260217T213000
DTSTAMP:20260420T180436
CREATED:20251117T144529Z
LAST-MODIFIED:20260216T101712Z
UID:30613-1771353000-1771363800@solydari.com
SUMMARY:Cohésion Tarbes
DESCRIPTION:Réunion de Cohésion Solydari Tarbes\, exceptionnellement accessible aux invités ! \nPour notre prochaine réunion de cohésion SOLYDARI\, nous avons choisi de changer de lieu. \nCe changement n’est pas anodin : il a pour objectif de sortir du cadre habituel\, de créer une nouvelle énergie\, et surtout de continuer à renforcer les liens humains qui font la force de notre pôle. \nCette réunion n’a aucun objectif business direct. Elle est pensée comme un moment de respiration\, d’échange et de convivialité\, afin de mieux se connaître\, mieux se comprendre et continuer à construire un groupe soudé\, bienveillant et aligné avec les valeurs SOLYDARI. \nVotre présence est importante\, non pas pour ce que vous faites\, mais pour ce que vous êtes au sein du groupe
URL:https://solydari.com/reunions/cohesion-tarbes-3/
LOCATION:ô Planches\, 40 rue Larrey\, Tarbes\, 65000\, France
CATEGORIES:Tarbes
ATTACH;FMTTYPE=image/jpeg:https://solydari.com/wp-content/uploads/2025/11/o-planches.jpg
ORGANIZER;CN="Solydari Tarbes":MAILTO:solydaritarbes65@gmail.com
END:VEVENT
BEGIN:VEVENT
DTSTART;TZID=Europe/Paris:20260224T180000
DTEND;TZID=Europe/Paris:20260224T200000
DTSTAMP:20260420T180436
CREATED:20260204T091523Z
LAST-MODIFIED:20260204T091523Z
UID:32855-1771956000-1771963200@solydari.com
SUMMARY:Réunion Présidents de pôles - Visio
DESCRIPTION:Réunion en visio qui vise à souder les présidents de pôles ainsi que de développer au mieux les pôles durant le mois qui suivent en faisant remonter et descendre les informations cruciales de solydari. \nAnnonce des différents nouveaux éléments ou modification pour les pôles. \nAnalyse des statistiques par pôle. \nLa présence d’un président par pôle est obligatoire. \nLes mentors ont le droit d’assister aux réunions de présidents de pôles.
URL:https://solydari.com/reunions/reunion-work-afterwork-presidents-de-poles-8/
LOCATION:Visio
CATEGORIES:Anglet,Bayonne,Biarritz,Bidart,Came,Dax,Dreux,Hossegor,Kanbo,Mont de Marsan,Mouguerre,Nîmes,Onena,Paris Est,Pau Idron,Pau Lescar,Pouillon,Salies-de-Bearn,Tarbes,Tarnos
ATTACH;FMTTYPE=image/png:https://solydari.com/wp-content/uploads/2025/02/capture-decran-2023-10-24-093017-hx2ame.tmp_.png
ORGANIZER;CN="Solydari Bayonne":MAILTO:solydarigroupe@gmail.com
END:VEVENT
END:VCALENDAR