BEGIN:VCALENDAR
VERSION:2.0
PRODID:-//Solydari.com - ECPv6.15.14//NONSGML v1.0//EN
CALSCALE:GREGORIAN
METHOD:PUBLISH
X-WR-CALNAME:Solydari.com
X-ORIGINAL-URL:https://solydari.com
X-WR-CALDESC:Évènements pour Solydari.com
REFRESH-INTERVAL;VALUE=DURATION:PT1H
X-Robots-Tag:noindex
X-PUBLISHED-TTL:PT1H
BEGIN:VTIMEZONE
TZID:Europe/Paris
BEGIN:DAYLIGHT
TZOFFSETFROM:+0100
TZOFFSETTO:+0200
TZNAME:CEST
DTSTART:20250330T010000
END:DAYLIGHT
BEGIN:STANDARD
TZOFFSETFROM:+0200
TZOFFSETTO:+0100
TZNAME:CET
DTSTART:20251026T010000
END:STANDARD
BEGIN:DAYLIGHT
TZOFFSETFROM:+0100
TZOFFSETTO:+0200
TZNAME:CEST
DTSTART:20260329T010000
END:DAYLIGHT
BEGIN:STANDARD
TZOFFSETFROM:+0200
TZOFFSETTO:+0100
TZNAME:CET
DTSTART:20261025T010000
END:STANDARD
BEGIN:DAYLIGHT
TZOFFSETFROM:+0100
TZOFFSETTO:+0200
TZNAME:CEST
DTSTART:20270328T010000
END:DAYLIGHT
BEGIN:STANDARD
TZOFFSETFROM:+0200
TZOFFSETTO:+0100
TZNAME:CET
DTSTART:20271031T010000
END:STANDARD
END:VTIMEZONE
BEGIN:VEVENT
DTSTART;TZID=Europe/Paris:20260303T183000
DTEND;TZID=Europe/Paris:20260303T213000
DTSTAMP:20260420T164751
CREATED:20251117T143602Z
LAST-MODIFIED:20260216T101725Z
UID:30610-1772562600-1772573400@solydari.com
SUMMARY:Cohésion Tarbes
DESCRIPTION:Réunion de Cohésion Solydari Tarbes\, exceptionnellement accessible aux invités !\n\n\n\n\nPour notre prochaine réunion de cohésion SOLYDARI\, nous avons choisi de changer de lieu. \nCe changement n’est pas anodin : il a pour objectif de sortir du cadre habituel\, de créer une nouvelle énergie\, et surtout de continuer à renforcer les liens humains qui font la force de notre pôle. \nCette réunion n’a aucun objectif business direct. Elle est pensée comme un moment de respiration\, d’échange et de convivialité\, afin de mieux se connaître\, mieux se comprendre et continuer à construire un groupe soudé\, bienveillant et aligné avec les valeurs SOLYDARI. \nVotre présence est importante\, non pas pour ce que vous faites\, mais pour ce que vous êtes au sein du groupe
URL:https://solydari.com/reunions/cohesion-tarbes-2-2/
LOCATION:Viking Hache Club\, 7 avenue des Tilleuls\, Tarbes\, 65000\, France
CATEGORIES:Tarbes
ATTACH;FMTTYPE=image/jpeg:https://solydari.com/wp-content/uploads/2025/11/hache-club.jpg
ORGANIZER;CN="Solydari Tarbes":MAILTO:solydaritarbes65@gmail.com
END:VEVENT
BEGIN:VEVENT
DTSTART;TZID=Europe/Paris:20260317T183000
DTEND;TZID=Europe/Paris:20260317T213000
DTSTAMP:20260420T164751
CREATED:20251117T150007Z
LAST-MODIFIED:20260216T101522Z
UID:30617-1773772200-1773783000@solydari.com
SUMMARY:Atelier Tarbes/Pau
DESCRIPTION:Atelier Personnalité / 4 couleurs : interpôle Tarbes – Pau \nCet atelier interactif\, animé par un formateur\, permet à chaque membre d’apprendre à mieux se connaître et à comprendre les autres grâce au modèle DISC basé sur 4 couleurs. \nAu cours de l’atelier\, chaque participant identifie sa couleur dominante\, découvre comment interagir efficacement avec chaque profil et apprend à adapter sa communication. L’objectif est également d’optimiser les recommandations\, le travail en équipe\, le recrutement et la cohésion au sein de Solydari.
URL:https://solydari.com/reunions/atelier-tarbes-5/
LOCATION:Microbrasserie la Méridienne\, 14 rue des Pyrénées\, Ibos\, 65420\, France
CATEGORIES:Tarbes
ATTACH;FMTTYPE=image/png:https://solydari.com/wp-content/uploads/2025/11/chatgpt-image-10-fevr.-2026-12_08_58.png
ORGANIZER;CN="Solydari Tarbes":MAILTO:solydaritarbes65@gmail.com
END:VEVENT
BEGIN:VEVENT
DTSTART;TZID=Europe/Paris:20260331T183000
DTEND;TZID=Europe/Paris:20260331T213000
DTSTAMP:20260420T164751
CREATED:20251117T144858Z
LAST-MODIFIED:20260216T101533Z
UID:30615-1774981800-1774992600@solydari.com
SUMMARY:Développement Tarbes
DESCRIPTION:Réunion de développement Solydari Tarbes\, ouvertes aux invités. \nCette réunion est l’occasion d’assister à la présentation d’activité de deux de nos membres. \nLes invités seront les bienvenus pour découvrir notre pôle tarbais !
URL:https://solydari.com/reunions/developpement-tarbes-4/
LOCATION:Microbrasserie la Méridienne\, 14 rue des Pyrénées\, Ibos\, 65420\, France
CATEGORIES:Tarbes
ORGANIZER;CN="Solydari Tarbes":MAILTO:solydaritarbes65@gmail.com
END:VEVENT
END:VCALENDAR