BEGIN:VCALENDAR
VERSION:2.0
PRODID:-//Solydari.com - ECPv6.15.14//NONSGML v1.0//EN
CALSCALE:GREGORIAN
METHOD:PUBLISH
X-ORIGINAL-URL:https://solydari.com
X-WR-CALDESC:Évènements pour Solydari.com
REFRESH-INTERVAL;VALUE=DURATION:PT1H
X-Robots-Tag:noindex
X-PUBLISHED-TTL:PT1H
BEGIN:VTIMEZONE
TZID:Europe/Paris
BEGIN:DAYLIGHT
TZOFFSETFROM:+0100
TZOFFSETTO:+0200
TZNAME:CEST
DTSTART:20250330T010000
END:DAYLIGHT
BEGIN:STANDARD
TZOFFSETFROM:+0200
TZOFFSETTO:+0100
TZNAME:CET
DTSTART:20251026T010000
END:STANDARD
BEGIN:DAYLIGHT
TZOFFSETFROM:+0100
TZOFFSETTO:+0200
TZNAME:CEST
DTSTART:20260329T010000
END:DAYLIGHT
BEGIN:STANDARD
TZOFFSETFROM:+0200
TZOFFSETTO:+0100
TZNAME:CET
DTSTART:20261025T010000
END:STANDARD
BEGIN:DAYLIGHT
TZOFFSETFROM:+0100
TZOFFSETTO:+0200
TZNAME:CEST
DTSTART:20270328T010000
END:DAYLIGHT
BEGIN:STANDARD
TZOFFSETFROM:+0200
TZOFFSETTO:+0100
TZNAME:CET
DTSTART:20271031T010000
END:STANDARD
END:VTIMEZONE
BEGIN:VEVENT
DTSTART;TZID=Europe/Paris:20260512T183000
DTEND;TZID=Europe/Paris:20260512T213000
DTSTAMP:20260420T164812
CREATED:20260217T132301Z
LAST-MODIFIED:20260217T132301Z
UID:33288-1778610600-1778621400@solydari.com
SUMMARY:Cohésion Tarbes
DESCRIPTION:Réunion de Cohésion Solydari Tarbes\, exclusivement réservée aux membres !\n\n\n\n\nPour notre prochaine réunion de cohésion SOLYDARI\, nous nous retrouvons au Viking Hache Club à Tarbes. \nCette réunion n’a aucun objectif business direct. Elle est pensée comme un moment de respiration\, d’échange et de convivialité\, afin de mieux se connaître\, mieux se comprendre et continuer à construire un groupe soudé\, bienveillant et aligné avec les valeurs SOLYDARI. \nVotre présence est importante\, non pas pour ce que vous faites\, mais pour ce que vous êtes au sein du groupe
URL:https://solydari.com/reunions/cohesion-tarbes-2/
LOCATION:Viking Hache Club\, 7 avenue des Tilleuls\, Tarbes\, 65000\, France
CATEGORIES:Tarbes
ATTACH;FMTTYPE=image/jpeg:https://solydari.com/wp-content/uploads/2025/11/hache-club.jpg
ORGANIZER;CN="Solydari Tarbes":MAILTO:solydaritarbes65@gmail.com
END:VEVENT
BEGIN:VEVENT
DTSTART;TZID=Europe/Paris:20260513T193000
DTEND;TZID=Europe/Paris:20260513T210000
DTSTAMP:20260420T164812
CREATED:20260305T091846Z
LAST-MODIFIED:20260305T091846Z
UID:33600-1778700600-1778706000@solydari.com
SUMMARY:VISIO - ATELIER IA - Interpôle
DESCRIPTION:REUNION EN VISIO EXCLUSIVE AUX MEMBRES SOLYDARI. \nAtelier aspirant à vous former pour gagner du temps avec de l’IA : Niveau intermédiaire. \nLien de connexion : https://meet.google.com/krm-occf-ibm \n  \nPoints particuliers : \n\nLe visio sera entièrement enregistré et mis en ligne sur le Youtube privé de solydari afin d’être disponible sur l’université en ligne de solydari par la suite.\nOBLIGATOIRE : Disposer d’un compte Chat GPT déjà prêt pour le visio. Beaucoup d’éléments vont être montrés avec un compte pro\, certaines options ne seront disponibles que sur des comptes Chat Gpt pros (mais rien n’empêchera de se former).\nObjectifs : 1 Voir et écouter / 2 Noter puis poser les questions à la fin (session enregistrée) / 3 Re-visionner la vidéo dans l’université en ligne si besoin par la suite.\nPour les présidents de pôles : N’utilisez pas le compte commun Chat Gpt pendant le visio afin qu’il ne soit pas trop lent ou surconsommé.\nNous utiliserons uniquement CHAT GPT avec ces différents modèles.\n\n  \nDéroulé : \n\nPersonnaliser son compte Chat Gpt pour gagner en efficacité.\nUtiliser les différents modèles.\nComment prompter proprement.\nCréer un GPT efficace.\nCréer ses propres outils du quotidien\, de prospection\, d’expertise\, d’analyse\, de rédaction\, etc. (Répétitions d’actions à simplifier avec l’IA).\nRappel : Julian Pôle Anglet.\n\n  \nAtelier organisé par Quentin Dumas \nSi questions : solydarigroupe@gmail.com
URL:https://solydari.com/reunions/visio-atelier-ia-interpole/
LOCATION:Visio
CATEGORIES:Anglet,Bayonne,Biarritz,Bidart,Came,Dax,Dreux,Hossegor,Kanbo,Le Luc,Marmande,Mont de Marsan,Mouguerre,Nîmes,Onena,Paris Est,Pau Idron,Pau Lescar,Pouillon,Salies-de-Bearn,Tarbes,Tarnos
ATTACH;FMTTYPE=image/png:https://solydari.com/wp-content/uploads/2026/03/visio-immo.png
ORGANIZER;CN="Solydari Bayonne":MAILTO:solydarigroupe@gmail.com
END:VEVENT
BEGIN:VEVENT
DTSTART;TZID=Europe/Paris:20260526T183000
DTEND;TZID=Europe/Paris:20260526T213000
DTSTAMP:20260420T164812
CREATED:20260217T132405Z
LAST-MODIFIED:20260217T143424Z
UID:33290-1779820200-1779831000@solydari.com
SUMMARY:Brainstorming Tarbes
DESCRIPTION:Bonjour à tous 👋 \nNous avons le plaisir de vous convier à la toute première réunion brainstorming du Pôle Solydari de Tarbes ! \n🎯 Objectif : construire ensemble l’ADN de notre futur pôle\, définir nos besoins\, nos valeurs locales\, notre organisation et lancer une dynamique collective solide — conformément à la philosophie Solydari : humain\, qualitatif\, réactif et solidaire
URL:https://solydari.com/reunions/brainstorming-tarbes-6/
LOCATION:Microbrasserie la Méridienne\, 14 rue des Pyrénées\, Ibos\, 65420\, France
CATEGORIES:Tarbes
ATTACH;FMTTYPE=image/jpeg:https://solydari.com/wp-content/uploads/2026/02/methodes-de-brainstorming-pour-generer-des-idees-disruptives.jpeg
ORGANIZER;CN="Solydari Tarbes":MAILTO:solydaritarbes65@gmail.com
END:VEVENT
END:VCALENDAR