BEGIN:VCALENDAR
VERSION:2.0
PRODID:-//Solydari.com - ECPv6.15.14//NONSGML v1.0//EN
CALSCALE:GREGORIAN
METHOD:PUBLISH
X-ORIGINAL-URL:https://solydari.com
X-WR-CALDESC:Évènements pour Solydari.com
REFRESH-INTERVAL;VALUE=DURATION:PT1H
X-Robots-Tag:noindex
X-PUBLISHED-TTL:PT1H
BEGIN:VTIMEZONE
TZID:Europe/Paris
BEGIN:DAYLIGHT
TZOFFSETFROM:+0100
TZOFFSETTO:+0200
TZNAME:CEST
DTSTART:20250330T010000
END:DAYLIGHT
BEGIN:STANDARD
TZOFFSETFROM:+0200
TZOFFSETTO:+0100
TZNAME:CET
DTSTART:20251026T010000
END:STANDARD
BEGIN:DAYLIGHT
TZOFFSETFROM:+0100
TZOFFSETTO:+0200
TZNAME:CEST
DTSTART:20260329T010000
END:DAYLIGHT
BEGIN:STANDARD
TZOFFSETFROM:+0200
TZOFFSETTO:+0100
TZNAME:CET
DTSTART:20261025T010000
END:STANDARD
BEGIN:DAYLIGHT
TZOFFSETFROM:+0100
TZOFFSETTO:+0200
TZNAME:CEST
DTSTART:20270328T010000
END:DAYLIGHT
BEGIN:STANDARD
TZOFFSETFROM:+0200
TZOFFSETTO:+0100
TZNAME:CET
DTSTART:20271031T010000
END:STANDARD
END:VTIMEZONE
BEGIN:VEVENT
DTSTART;TZID=Europe/Paris:20260212T193000
DTEND;TZID=Europe/Paris:20260212T223000
DTSTAMP:20260420T153258
CREATED:20251212T141551Z
LAST-MODIFIED:20251212T141551Z
UID:31490-1770924600-1770935400@solydari.com
SUMMARY:REUNION TARNOS
DESCRIPTION:une réunion dédiée à la cohésion et au partage\, un moment pour renforcer notre soutien mutuel et cultiver la bienveillance au sein du groupe.Votre présence compte : ensemble\, nous avançons plus fort. »
URL:https://solydari.com/reunions/reunion-tarnos-3/
LOCATION:CAFE TERRA\, 1 chemin d'Andriou\, Saint-André-de-Seignanx\, 40390\, France
CATEGORIES:Tarnos
ATTACH;FMTTYPE=image/jpeg:https://solydari.com/wp-content/uploads/2025/04/ee9f7926-4099-4982-844f-62fdf8920bcc.jpg
END:VEVENT
BEGIN:VEVENT
DTSTART;TZID=Europe/Paris:20260224T180000
DTEND;TZID=Europe/Paris:20260224T200000
DTSTAMP:20260420T153258
CREATED:20260204T091523Z
LAST-MODIFIED:20260204T091523Z
UID:32855-1771956000-1771963200@solydari.com
SUMMARY:Réunion Présidents de pôles - Visio
DESCRIPTION:Réunion en visio qui vise à souder les présidents de pôles ainsi que de développer au mieux les pôles durant le mois qui suivent en faisant remonter et descendre les informations cruciales de solydari. \nAnnonce des différents nouveaux éléments ou modification pour les pôles. \nAnalyse des statistiques par pôle. \nLa présence d’un président par pôle est obligatoire. \nLes mentors ont le droit d’assister aux réunions de présidents de pôles.
URL:https://solydari.com/reunions/reunion-work-afterwork-presidents-de-poles-8/
LOCATION:Visio
CATEGORIES:Anglet,Bayonne,Biarritz,Bidart,Came,Dax,Dreux,Hossegor,Kanbo,Mont de Marsan,Mouguerre,Nîmes,Onena,Paris Est,Pau Idron,Pau Lescar,Pouillon,Salies-de-Bearn,Tarbes,Tarnos
ATTACH;FMTTYPE=image/png:https://solydari.com/wp-content/uploads/2025/02/capture-decran-2023-10-24-093017-hx2ame.tmp_.png
ORGANIZER;CN="Solydari Bayonne":MAILTO:solydarigroupe@gmail.com
END:VEVENT
BEGIN:VEVENT
DTSTART;TZID=Europe/Paris:20260226T193000
DTEND;TZID=Europe/Paris:20260226T223000
DTSTAMP:20260420T153258
CREATED:20251212T141733Z
LAST-MODIFIED:20260217T104914Z
UID:31492-1772134200-1772145000@solydari.com
SUMMARY:REUNION TARNOS
DESCRIPTION:Réunion au Salon de Coiffure “Summer prestige” chez Aurore l’une de nos membres pour découvrir son univers professionnel.
URL:https://solydari.com/reunions/reunion-tarnos-4/
LOCATION:SUMMER PRESTIGE\, 25 av George Clémenceau\, 40100 DAX
CATEGORIES:Tarnos
ATTACH;FMTTYPE=image/jpeg:https://solydari.com/wp-content/uploads/2025/04/ee9f7926-4099-4982-844f-62fdf8920bcc.jpg
END:VEVENT
END:VCALENDAR