BEGIN:VCALENDAR
VERSION:2.0
PRODID:-//Solydari.com - ECPv6.15.14//NONSGML v1.0//EN
CALSCALE:GREGORIAN
METHOD:PUBLISH
X-WR-CALNAME:Solydari.com
X-ORIGINAL-URL:https://solydari.com
X-WR-CALDESC:Évènements pour Solydari.com
REFRESH-INTERVAL;VALUE=DURATION:PT1H
X-Robots-Tag:noindex
X-PUBLISHED-TTL:PT1H
BEGIN:VTIMEZONE
TZID:Europe/Paris
BEGIN:DAYLIGHT
TZOFFSETFROM:+0100
TZOFFSETTO:+0200
TZNAME:CEST
DTSTART:20250330T010000
END:DAYLIGHT
BEGIN:STANDARD
TZOFFSETFROM:+0200
TZOFFSETTO:+0100
TZNAME:CET
DTSTART:20251026T010000
END:STANDARD
BEGIN:DAYLIGHT
TZOFFSETFROM:+0100
TZOFFSETTO:+0200
TZNAME:CEST
DTSTART:20260329T010000
END:DAYLIGHT
BEGIN:STANDARD
TZOFFSETFROM:+0200
TZOFFSETTO:+0100
TZNAME:CET
DTSTART:20261025T010000
END:STANDARD
BEGIN:DAYLIGHT
TZOFFSETFROM:+0100
TZOFFSETTO:+0200
TZNAME:CEST
DTSTART:20270328T010000
END:DAYLIGHT
BEGIN:STANDARD
TZOFFSETFROM:+0200
TZOFFSETTO:+0100
TZNAME:CET
DTSTART:20271031T010000
END:STANDARD
END:VTIMEZONE
BEGIN:VEVENT
DTSTART;TZID=Europe/Paris:20260420T193000
DTEND;TZID=Europe/Paris:20260420T220000
DTSTAMP:20260420T153140
CREATED:20260204T131438Z
LAST-MODIFIED:20260204T131438Z
UID:32891-1776713400-1776722400@solydari.com
SUMMARY:Cohesion Bayonne - La question qu’on ne veut pas
DESCRIPTION:Cette réunion de cohésion sur le pôle Solydari Bayonne a pour but synergique de nouer les liens entre les membres en passant un bon moment convivial. Parler business\, parler de compétences à améliorer\, tout ce qu’il faut pour conserver une amitié professionnelle durable et fidèle sera naturellement au rendez-vous. \n  \n🎲 Principe : (45-50 min)\n\n\nChaque membre passe 2 minutes face au groupe \n\n\nLe groupe ne pose QUE des questions pénibles / clichées / reloues liées à son métier \n\nExemples :Agent immobilier :– “On peut baisser les honoraires ?”– “Vous faites juste visiter\, non ?”\nGraphiste :\n– “Tu peux faire ça vite fait ?” \nCoach :– “Tu garantis les résultats ?” \n\n\nLe membre doit répondre calmement + pédagogiquement + professionnellement. \nObjectifs : \n\n\napprendre à gérer les objections \n\n\nmuscler le discours commercial \n\n\npréparer la vraie vie \n\n\n\n\n  \nPour les membres Solydari : \n\nPensez à prendre vos cartes de visite en quantité.\nInscrivez-vous en cliquant sur “Indiquez votre participation“
URL:https://solydari.com/reunions/cohesion-bayonne-la-question-quon-ne-veut-pas/
LOCATION:Kokot Nomad\, 4 Chem. de Jorlis\, Anglet\, Nouvelle-Aquitaine\, 64600\, France
CATEGORIES:Bayonne
ATTACH;FMTTYPE=image/png:https://solydari.com/wp-content/uploads/2025/11/bayonne-8.png
ORGANIZER;CN="Solydari Bayonne":MAILTO:solydarigroupe@gmail.com
END:VEVENT
END:VCALENDAR