BEGIN:VCALENDAR
VERSION:2.0
PRODID:-//Solydari.com - ECPv6.15.14//NONSGML v1.0//EN
CALSCALE:GREGORIAN
METHOD:PUBLISH
X-WR-CALNAME:Solydari.com
X-ORIGINAL-URL:https://solydari.com
X-WR-CALDESC:Évènements pour Solydari.com
REFRESH-INTERVAL;VALUE=DURATION:PT1H
X-Robots-Tag:noindex
X-PUBLISHED-TTL:PT1H
BEGIN:VTIMEZONE
TZID:Europe/Paris
BEGIN:DAYLIGHT
TZOFFSETFROM:+0100
TZOFFSETTO:+0200
TZNAME:CEST
DTSTART:20250330T010000
END:DAYLIGHT
BEGIN:STANDARD
TZOFFSETFROM:+0200
TZOFFSETTO:+0100
TZNAME:CET
DTSTART:20251026T010000
END:STANDARD
BEGIN:DAYLIGHT
TZOFFSETFROM:+0100
TZOFFSETTO:+0200
TZNAME:CEST
DTSTART:20260329T010000
END:DAYLIGHT
BEGIN:STANDARD
TZOFFSETFROM:+0200
TZOFFSETTO:+0100
TZNAME:CET
DTSTART:20261025T010000
END:STANDARD
BEGIN:DAYLIGHT
TZOFFSETFROM:+0100
TZOFFSETTO:+0200
TZNAME:CEST
DTSTART:20270328T010000
END:DAYLIGHT
BEGIN:STANDARD
TZOFFSETFROM:+0200
TZOFFSETTO:+0100
TZNAME:CET
DTSTART:20271031T010000
END:STANDARD
END:VTIMEZONE
BEGIN:VEVENT
DTSTART;TZID=Europe/Paris:20260413T190000
DTEND;TZID=Europe/Paris:20260413T220000
DTSTAMP:20260420T065329
CREATED:20260406T084548Z
LAST-MODIFIED:20260406T084548Z
UID:35021-1776106800-1776117600@solydari.com
SUMMARY:Cohesion Salies de Béarn
DESCRIPTION:Réunion de cohésion : temps dédié aux échanges et au partage entre membres\, visant à mieux se connaître\, renforcer les liens\, favoriser une communication fluide et développer un véritable esprit d’équipe. Un moment clé pour créer de la confiance et avancer ensemble plus efficacement. \n( Uniquement pour les membres du Pôle de Salies de Béarn )
URL:https://solydari.com/reunions/cohesion-salies-de-bearn/
LOCATION:Salle de l’association AVENIR\, 288 chemin Bellecave\, Salies de Béarn\, 64270
CATEGORIES:Salies-de-Bearn
ATTACH;FMTTYPE=image/png:https://solydari.com/wp-content/uploads/2026/03/salies-de-bearn-sans-fond.png
END:VEVENT
END:VCALENDAR