BEGIN:VCALENDAR
VERSION:2.0
PRODID:-//Solydari.com - ECPv6.15.14//NONSGML v1.0//EN
CALSCALE:GREGORIAN
METHOD:PUBLISH
X-WR-CALNAME:Solydari.com
X-ORIGINAL-URL:https://solydari.com
X-WR-CALDESC:Évènements pour Solydari.com
REFRESH-INTERVAL;VALUE=DURATION:PT1H
X-Robots-Tag:noindex
X-PUBLISHED-TTL:PT1H
BEGIN:VTIMEZONE
TZID:Europe/Paris
BEGIN:DAYLIGHT
TZOFFSETFROM:+0100
TZOFFSETTO:+0200
TZNAME:CEST
DTSTART:20250330T010000
END:DAYLIGHT
BEGIN:STANDARD
TZOFFSETFROM:+0200
TZOFFSETTO:+0100
TZNAME:CET
DTSTART:20251026T010000
END:STANDARD
BEGIN:DAYLIGHT
TZOFFSETFROM:+0100
TZOFFSETTO:+0200
TZNAME:CEST
DTSTART:20260329T010000
END:DAYLIGHT
BEGIN:STANDARD
TZOFFSETFROM:+0200
TZOFFSETTO:+0100
TZNAME:CET
DTSTART:20261025T010000
END:STANDARD
BEGIN:DAYLIGHT
TZOFFSETFROM:+0100
TZOFFSETTO:+0200
TZNAME:CEST
DTSTART:20270328T010000
END:DAYLIGHT
BEGIN:STANDARD
TZOFFSETFROM:+0200
TZOFFSETTO:+0100
TZNAME:CET
DTSTART:20271031T010000
END:STANDARD
END:VTIMEZONE
BEGIN:VEVENT
DTSTART;TZID=Europe/Paris:20260205T193000
DTEND;TZID=Europe/Paris:20260205T220000
DTSTAMP:20260420T154149
CREATED:20251203T134335Z
LAST-MODIFIED:20260126T100934Z
UID:31151-1770319800-1770328800@solydari.com
SUMMARY:Atelier Synergie Dax : “Quand et comment travailler ensemble ?”
DESCRIPTION:Rejoignez-nous à La Table de Maman à 19h30 pour une rencontre business pleine d’énergie ! Autour d’un verre et de tapas\, chaque entreprise pourra se présenter\, partager ses besoins et créer des connexions vraiment utiles. \nPlongez au cœur des complémentarités entre artisans et autres métiers lors d’un atelier 100% Solydari !L’objectif : repérer les associations gagnantes\, comprendre comment collaborer efficacement et découvrir comment vos expertises peuvent se renforcer mutuellement. \nCet atelier est l’occasion parfaite d’identifier vos partenaires naturels\, d’ouvrir la porte à de nouvelles alliances et de booster les recommandations entre membres. \nUn moment Solydari par excellence\, où les compétences se complètent et où les idées prennent vie ! \n.
URL:https://solydari.com/reunions/developpement-atelier-dax-16/
LOCATION:La Table de Maman\, 70 cr du Maréchal Joffre 40100 DAX\, DAX\, 40100
CATEGORIES:Dax
ATTACH;FMTTYPE=image/jpeg:https://solydari.com/wp-content/uploads/2025/02/votre-texte-de-paragraphe-2.jpg
END:VEVENT
END:VCALENDAR