BEGIN:VCALENDAR
VERSION:2.0
PRODID:-//Solydari.com - ECPv6.15.14//NONSGML v1.0//EN
CALSCALE:GREGORIAN
METHOD:PUBLISH
X-WR-CALNAME:Solydari.com
X-ORIGINAL-URL:https://solydari.com
X-WR-CALDESC:Évènements pour Solydari.com
REFRESH-INTERVAL;VALUE=DURATION:PT1H
X-Robots-Tag:noindex
X-PUBLISHED-TTL:PT1H
BEGIN:VTIMEZONE
TZID:Europe/Paris
BEGIN:DAYLIGHT
TZOFFSETFROM:+0100
TZOFFSETTO:+0200
TZNAME:CEST
DTSTART:20250330T010000
END:DAYLIGHT
BEGIN:STANDARD
TZOFFSETFROM:+0200
TZOFFSETTO:+0100
TZNAME:CET
DTSTART:20251026T010000
END:STANDARD
BEGIN:DAYLIGHT
TZOFFSETFROM:+0100
TZOFFSETTO:+0200
TZNAME:CEST
DTSTART:20260329T010000
END:DAYLIGHT
BEGIN:STANDARD
TZOFFSETFROM:+0200
TZOFFSETTO:+0100
TZNAME:CET
DTSTART:20261025T010000
END:STANDARD
BEGIN:DAYLIGHT
TZOFFSETFROM:+0100
TZOFFSETTO:+0200
TZNAME:CEST
DTSTART:20270328T010000
END:DAYLIGHT
BEGIN:STANDARD
TZOFFSETFROM:+0200
TZOFFSETTO:+0100
TZNAME:CET
DTSTART:20271031T010000
END:STANDARD
END:VTIMEZONE
BEGIN:VEVENT
DTSTART;TZID=Europe/Paris:20260603T190000
DTEND;TZID=Europe/Paris:20260603T213000
DTSTAMP:20260420T095923
CREATED:20260119T152751Z
LAST-MODIFIED:20260312T133605Z
UID:32192-1780513200-1780522200@solydari.com
SUMMARY:Réunion de développement & invités – Pau
DESCRIPTION: Solydari Pau vous accueille pour sa réunion de développement.Le mercredi 3 juin à 19h\, nous nous retrouvons au Navy Blue pour une réunion de développement. \nDans l’énergie solaire et chaleureuse du pôle\, 2 à 3 membres présenteront leur entreprise… mais façon Solydari : libre\, créative\, inspirante. PowerPoint\, quiz\, spectacle\, partage intimiste ou show interactif : chacun choisit la façon dont il veut présenter son métier\, son entreprise ! \nCes soirées sont des bulles de convivialité et de vision\, où l’on apprend à se connaître autrement et où l’on tisse des liens solides. \nC’est également l’occasion d’inviter une personne de votre réseau qui serait intéressée par Solydari. \nMegan
URL:https://solydari.com/reunions/developpement-pau-juin/
LOCATION:Navy Blue Cabaret\, 8 Rue du Souvenir Français\, Lescar\, 64230\, France
CATEGORIES:Pau Lescar
ATTACH;FMTTYPE=image/png:https://solydari.com/wp-content/uploads/2025/07/pau-2.png
END:VEVENT
END:VCALENDAR