BEGIN:VCALENDAR
VERSION:2.0
PRODID:-//Solydari.com - ECPv6.15.14//NONSGML v1.0//EN
CALSCALE:GREGORIAN
METHOD:PUBLISH
X-WR-CALNAME:Solydari.com
X-ORIGINAL-URL:https://solydari.com
X-WR-CALDESC:Évènements pour Solydari.com
REFRESH-INTERVAL;VALUE=DURATION:PT1H
X-Robots-Tag:noindex
X-PUBLISHED-TTL:PT1H
BEGIN:VTIMEZONE
TZID:Europe/Paris
BEGIN:DAYLIGHT
TZOFFSETFROM:+0100
TZOFFSETTO:+0200
TZNAME:CEST
DTSTART:20250330T010000
END:DAYLIGHT
BEGIN:STANDARD
TZOFFSETFROM:+0200
TZOFFSETTO:+0100
TZNAME:CET
DTSTART:20251026T010000
END:STANDARD
BEGIN:DAYLIGHT
TZOFFSETFROM:+0100
TZOFFSETTO:+0200
TZNAME:CEST
DTSTART:20260329T010000
END:DAYLIGHT
BEGIN:STANDARD
TZOFFSETFROM:+0200
TZOFFSETTO:+0100
TZNAME:CET
DTSTART:20261025T010000
END:STANDARD
BEGIN:DAYLIGHT
TZOFFSETFROM:+0100
TZOFFSETTO:+0200
TZNAME:CEST
DTSTART:20270328T010000
END:DAYLIGHT
BEGIN:STANDARD
TZOFFSETFROM:+0200
TZOFFSETTO:+0100
TZNAME:CET
DTSTART:20271031T010000
END:STANDARD
END:VTIMEZONE
BEGIN:VEVENT
DTSTART;TZID=Europe/Paris:20260330T193000
DTEND;TZID=Europe/Paris:20260330T220000
DTSTAMP:20260420T083457
CREATED:20251222T143037Z
LAST-MODIFIED:20260313T154109Z
UID:31857-1774899000-1774908000@solydari.com
SUMMARY:Rencontre Cohésion Biarritz
DESCRIPTION:Chers membres Solydari et chers invités\, \nNous sommes ravis de vous convier à notre prochaine Réunion de Cohésion\, un moment placé sous le signe de la convivialité\, du partage et des rencontres authentiques. \nPour cette rencontre nous vous proposons : \n🎤 Tour de présentation  \n📸 coin ludique … à venir 😉 \n✨ Pensez à apporter vos cartes de visite — en quantité !C’est l’occasion idéale pour faire découvrir votre activité et créer du lien. \nLes indépendants\, salariés et entreprises non membres sont également les bienvenus pour découvrir l’esprit Solydari et\, pourquoi pas\, rejoindre le pôle qui leur correspond.Vous pouvez déposer votre candidature dès maintenant ici :👉 https://solydari.com/recrutement/ \nNous avons hâte de vous retrouver pour terminer cette année autour d’un moment unique\, chaleureux et inspirant. \nÀ très vite\,L’équipe Solydari Biarritz 🤝✨
URL:https://solydari.com/reunions/rencontre-cohesion-biarritz-2/
LOCATION:ON SPOT\, 52 avenue du 8 mai 1945\, BAYONNE\, 64100\, France
CATEGORIES:Biarritz
ATTACH;FMTTYPE=image/jpeg:https://solydari.com/wp-content/uploads/2026/01/whatsapp-image-2026-01-08-at-09.48.53.jpeg
END:VEVENT
END:VCALENDAR