BEGIN:VCALENDAR
VERSION:2.0
PRODID:-//Solydari.com - ECPv6.15.14//NONSGML v1.0//EN
CALSCALE:GREGORIAN
METHOD:PUBLISH
X-WR-CALNAME:Solydari.com
X-ORIGINAL-URL:https://solydari.com
X-WR-CALDESC:Évènements pour Solydari.com
REFRESH-INTERVAL;VALUE=DURATION:PT1H
X-Robots-Tag:noindex
X-PUBLISHED-TTL:PT1H
BEGIN:VTIMEZONE
TZID:Europe/Paris
BEGIN:DAYLIGHT
TZOFFSETFROM:+0100
TZOFFSETTO:+0200
TZNAME:CEST
DTSTART:20250330T010000
END:DAYLIGHT
BEGIN:STANDARD
TZOFFSETFROM:+0200
TZOFFSETTO:+0100
TZNAME:CET
DTSTART:20251026T010000
END:STANDARD
BEGIN:DAYLIGHT
TZOFFSETFROM:+0100
TZOFFSETTO:+0200
TZNAME:CEST
DTSTART:20260329T010000
END:DAYLIGHT
BEGIN:STANDARD
TZOFFSETFROM:+0200
TZOFFSETTO:+0100
TZNAME:CET
DTSTART:20261025T010000
END:STANDARD
BEGIN:DAYLIGHT
TZOFFSETFROM:+0100
TZOFFSETTO:+0200
TZNAME:CEST
DTSTART:20270328T010000
END:DAYLIGHT
BEGIN:STANDARD
TZOFFSETFROM:+0200
TZOFFSETTO:+0100
TZNAME:CET
DTSTART:20271031T010000
END:STANDARD
END:VTIMEZONE
BEGIN:VEVENT
DTSTART;TZID=Europe/Paris:20260413T193000
DTEND;TZID=Europe/Paris:20260413T220000
DTSTAMP:20260420T125009
CREATED:20251125T161741Z
LAST-MODIFIED:20260313T154002Z
UID:30985-1776108600-1776117600@solydari.com
SUMMARY:Rencontre Développement Biarritz
DESCRIPTION:Chers membres Solydari et invités\, \nNous avons le plaisir de vous convier à notre Rencontre Développement\, un moment convivial dédié au partage\, aux échanges et au développement collectif. \n🌟 Pourquoi participer ?\n\n\nCréer de nouvelles opportunités professionnelles \n\n\nValoriser votre activité et renforcer votre visibilité \n\n\nDévelopper votre réseau local \n\n\nContribuer à la dynamique d’un réseau d’entrepreneurs engagés \n\n\n📝 Infos pratiques\n🔹 Membres Solydari : pensez à apporter vos cartes de visite en quantité !🔹 Indépendants\, salariés ou entreprises non membres : vous êtes les bienvenus pour découvrir l’esprit du réseau. \nPour les non-membres souhaitant nous rejoindre\, merci de remplir votre candidature ici :👉 https://solydari.com/inscription/ \nVenez partager vos compétences\, rencontrer d’autres professionnels passionnés et faire grandir vos projets au sein du réseau Solydari. \nÀ très bientôt\,Annonciade\, Audrey et Laurence
URL:https://solydari.com/reunions/rencontre-developpement-biarritz-4/
LOCATION:ON SPOT\, 52 avenue du 8 mai 1945\, BAYONNE\, 64100\, France
CATEGORIES:Biarritz
ATTACH;FMTTYPE=image/jpeg:https://solydari.com/wp-content/uploads/2026/01/whatsapp-image-2026-01-08-at-09.48.53.jpeg
END:VEVENT
END:VCALENDAR