BEGIN:VCALENDAR
VERSION:2.0
PRODID:-//Solydari.com - ECPv6.15.14//NONSGML v1.0//EN
CALSCALE:GREGORIAN
METHOD:PUBLISH
X-WR-CALNAME:Solydari.com
X-ORIGINAL-URL:https://solydari.com
X-WR-CALDESC:Évènements pour Solydari.com
REFRESH-INTERVAL;VALUE=DURATION:PT1H
X-Robots-Tag:noindex
X-PUBLISHED-TTL:PT1H
BEGIN:VTIMEZONE
TZID:Europe/Paris
BEGIN:DAYLIGHT
TZOFFSETFROM:+0100
TZOFFSETTO:+0200
TZNAME:CEST
DTSTART:20250330T010000
END:DAYLIGHT
BEGIN:STANDARD
TZOFFSETFROM:+0200
TZOFFSETTO:+0100
TZNAME:CET
DTSTART:20251026T010000
END:STANDARD
BEGIN:DAYLIGHT
TZOFFSETFROM:+0100
TZOFFSETTO:+0200
TZNAME:CEST
DTSTART:20260329T010000
END:DAYLIGHT
BEGIN:STANDARD
TZOFFSETFROM:+0200
TZOFFSETTO:+0100
TZNAME:CET
DTSTART:20261025T010000
END:STANDARD
BEGIN:DAYLIGHT
TZOFFSETFROM:+0100
TZOFFSETTO:+0200
TZNAME:CEST
DTSTART:20270328T010000
END:DAYLIGHT
BEGIN:STANDARD
TZOFFSETFROM:+0200
TZOFFSETTO:+0100
TZNAME:CET
DTSTART:20271031T010000
END:STANDARD
END:VTIMEZONE
BEGIN:VEVENT
DTSTART;TZID=Europe/Paris:20260519T190000
DTEND;TZID=Europe/Paris:20260519T213000
DTSTAMP:20260420T082057
CREATED:20260411T095319Z
LAST-MODIFIED:20260411T095319Z
UID:35068-1779217200-1779226200@solydari.com
SUMMARY:Réunion Pôle Solydari Dreux
DESCRIPTION:Réunion du Pôle Solydari Dreux\n\n\nBonjour\, \nVos échanges ont confirmé une chose essentielle : sur le Pays drouais\, il y a une vraie envie d’entraide entre entrepreneurs\, de visibilité locale et de recommandations de qualité. \nL’heure est venue d’organiser la prochaine réunion de développement avec les personnes intéressées.\nL’objectif est simple : vous faire vivre concrètement une réunion Solydari\, échanger entre entrepreneurs locaux et commencer à créer de vraies opportunités ensemble. \n Prochaine date  : \nMardi 19/05/2026 à 19h \n\nLieu : Le 22 à Dreux \n \n\nC’est simplement une étape pour continuer la discussion et construire le pôle Solydari de Dreux avec des entrepreneurs motivés par le collectif\, la confiance et le développement local. \nLe pôle est encore en construction\, et les premiers membres participent directement à son ADN et à sa dynamique. \nSi vous hésitez ou avez besoin d’échanger avant\, je reste bien entendu disponible. \nAu plaisir de vous retrouver très prochainement\,
URL:https://solydari.com/reunions/reunion-pole-solydari-dreux-4/
LOCATION:le 22\, 22 rue des Livraindières\, Dreux\, 28100\, France
CATEGORIES:Dreux
ATTACH;FMTTYPE=image/png:https://solydari.com/wp-content/uploads/2025/10/dreux-avec-arriere-plan-2.png
ORGANIZER;CN="Solydari Dreux":MAILTO:solydaridreux@gmail.com
END:VEVENT
END:VCALENDAR