BEGIN:VCALENDAR
VERSION:2.0
PRODID:-//Solydari.com - ECPv6.15.14//NONSGML v1.0//EN
CALSCALE:GREGORIAN
METHOD:PUBLISH
X-WR-CALNAME:Solydari.com
X-ORIGINAL-URL:https://solydari.com
X-WR-CALDESC:Évènements pour Solydari.com
REFRESH-INTERVAL;VALUE=DURATION:PT1H
X-Robots-Tag:noindex
X-PUBLISHED-TTL:PT1H
BEGIN:VTIMEZONE
TZID:Europe/Paris
BEGIN:DAYLIGHT
TZOFFSETFROM:+0100
TZOFFSETTO:+0200
TZNAME:CEST
DTSTART:20250330T010000
END:DAYLIGHT
BEGIN:STANDARD
TZOFFSETFROM:+0200
TZOFFSETTO:+0100
TZNAME:CET
DTSTART:20251026T010000
END:STANDARD
BEGIN:DAYLIGHT
TZOFFSETFROM:+0100
TZOFFSETTO:+0200
TZNAME:CEST
DTSTART:20260329T010000
END:DAYLIGHT
BEGIN:STANDARD
TZOFFSETFROM:+0200
TZOFFSETTO:+0100
TZNAME:CET
DTSTART:20261025T010000
END:STANDARD
BEGIN:DAYLIGHT
TZOFFSETFROM:+0100
TZOFFSETTO:+0200
TZNAME:CEST
DTSTART:20270328T010000
END:DAYLIGHT
BEGIN:STANDARD
TZOFFSETFROM:+0200
TZOFFSETTO:+0100
TZNAME:CET
DTSTART:20271031T010000
END:STANDARD
END:VTIMEZONE
BEGIN:VEVENT
DTSTART;TZID=Europe/Paris:20260422T190000
DTEND;TZID=Europe/Paris:20260422T220000
DTSTAMP:20260420T051958
CREATED:20260416T084803Z
LAST-MODIFIED:20260416T084803Z
UID:35122-1776884400-1776895200@solydari.com
SUMMARY:REUNION PRESENTATION
DESCRIPTION:  \nEt si on prenait un moment pour imaginer\, construire et agir ensemble ? \nL’équipe Solydari t’invite à une réunion conviviale et ouverte à toutes celles et ceux qui veulent s’impliquer\, découvrir ou simplement échanger autour de projets solidaires et engagés. \n✨ Au programme :\n– Présentation du concept\n– Rencontres avec des personnes motivées\n– Discussions autour de projets concrets\n– Et surtout… une bonne dose d’énergie collective ! \nQue tu sois déjà impliqué·e ou simplement curieux·se\, ta présence compte. Chacun apporte quelque chose\, et c’est ensemble qu’on avance. \n📅 Rejoins-nous et fais partie du mouvement ! \nle Mercredi 22 Avril 2026 au Babette Bear House \nAvenue Larribau Bâtiment Layous 64000 Pau
URL:https://solydari.com/reunions/reunion-presentation-3/
LOCATION:Av. Larribau Bâtiment Layous\, 64000 Pau\, Av. Larribau Bâtiment Layous\, 64000 Pau\, pau\, 64000\, France
CATEGORIES:Pau Idron
ATTACH;FMTTYPE=image/jpeg:https://solydari.com/wp-content/uploads/2026/03/img-20260205-wa0002.jpg
END:VEVENT
END:VCALENDAR