BEGIN:VCALENDAR
VERSION:2.0
PRODID:-//Solydari.com - ECPv6.15.14//NONSGML v1.0//EN
CALSCALE:GREGORIAN
METHOD:PUBLISH
X-WR-CALNAME:Solydari.com
X-ORIGINAL-URL:https://solydari.com
X-WR-CALDESC:Évènements pour Solydari.com
REFRESH-INTERVAL;VALUE=DURATION:PT1H
X-Robots-Tag:noindex
X-PUBLISHED-TTL:PT1H
BEGIN:VTIMEZONE
TZID:Europe/Paris
BEGIN:DAYLIGHT
TZOFFSETFROM:+0100
TZOFFSETTO:+0200
TZNAME:CEST
DTSTART:20250330T010000
END:DAYLIGHT
BEGIN:STANDARD
TZOFFSETFROM:+0200
TZOFFSETTO:+0100
TZNAME:CET
DTSTART:20251026T010000
END:STANDARD
BEGIN:DAYLIGHT
TZOFFSETFROM:+0100
TZOFFSETTO:+0200
TZNAME:CEST
DTSTART:20260329T010000
END:DAYLIGHT
BEGIN:STANDARD
TZOFFSETFROM:+0200
TZOFFSETTO:+0100
TZNAME:CET
DTSTART:20261025T010000
END:STANDARD
BEGIN:DAYLIGHT
TZOFFSETFROM:+0100
TZOFFSETTO:+0200
TZNAME:CEST
DTSTART:20270328T010000
END:DAYLIGHT
BEGIN:STANDARD
TZOFFSETFROM:+0200
TZOFFSETTO:+0100
TZNAME:CET
DTSTART:20271031T010000
END:STANDARD
END:VTIMEZONE
BEGIN:VEVENT
DTSTART;TZID=Europe/Paris:20260218T193000
DTEND;TZID=Europe/Paris:20260218T220000
DTSTAMP:20260420T153659
CREATED:20251203T142224Z
LAST-MODIFIED:20251203T155341Z
UID:31157-1771443000-1771452000@solydari.com
SUMMARY:Soirée burgers locaux
DESCRIPTION:Rejoignez-nous à L’Experiment’halle à Dax\, à 19h30\, pour une réunion pas comme les autres : une soirée spéciale autour de burgers locaux !Un moment parfait pour échanger\, créer des contacts et renforcer les liens… le tout dans une ambiance décontractée et gourmande. \nVenez partager vos projets\, vos besoins\, et repartir avec de vraies connexions pro.
URL:https://solydari.com/reunions/soiree-burgers-locaux/
LOCATION:Experiment’Halle\, Les Halles de Dax2 Pl. Roger Ducos\,\, Dax\, 40100\, France
CATEGORIES:Dax
ATTACH;FMTTYPE=image/jpeg:https://solydari.com/wp-content/uploads/2025/02/votre-texte-de-paragraphe-2.jpg
END:VEVENT
END:VCALENDAR